BEGIN:VCALENDAR
VERSION:2.0
PRODID:-//www.saveourcemeteries.org//NONSGML kigkonsult.se iCalcreator 2.30
 .10//
CALSCALE:GREGORIAN
METHOD:PUBLISH
UID:e48cd2f6-b134-4325-b520-8844be17b546
X-WR-CALDESC:Every year Save Our Cemeteries hosts the largest cemetery race
  in the United States. \n\nJoin us for the race but also enjoy the music\,
  beer\, and food! Bring the whole family to this fun event.\n\nThe 1-mile 
 and 5K courses lace through historic Metairie Cemetery\, one of the most f
 amous & historic cemeteries of the South. Established in 1872\, the area w
 as previously Metairie horse racetrack and is now a national landmark. The
  cemetery offers a picturesque tour of Louisiana’s history that includes t
 he resting places of many past governors\, mayors\, military leaders\, and
  prominent men & women of the business\, cultural\, political\, and social
  life of New Orleans.\n\n
X-WR-RELCALID:1c58c5c768fb80720b4c86356cf12961
X-WR-TIMEZONE:America/Chicago
BEGIN:VTIMEZONE
TZID:America/Chicago
BEGIN:STANDARD
TZNAME:CST
DTSTART:20221106T020000
TZOFFSETFROM:-0500
TZOFFSETTO:-0600
RDATE:20231105T020000
END:STANDARD
BEGIN:DAYLIGHT
TZNAME:CDT
DTSTART:20230312T020000
TZOFFSETFROM:-0600
TZOFFSETTO:-0500
RDATE:20240310T020000
END:DAYLIGHT
END:VTIMEZONE
BEGIN:VEVENT
UID:70e4c43c-64a9-4db9-ab09-5e409e76c59a
DTSTAMP:20260422T203530Z
DESCRIPTION:Every year Save Our Cemeteries hosts the largest cemetery race 
 in the United States. \n\nJoin us for the race but also enjoy the music\, 
 beer\, and food! Bring the whole family to this fun event.\n\nThe 1-mile a
 nd 5K courses lace through historic Metairie Cemetery\, one of the most fa
 mous & historic cemeteries of the South. Established in 1872\, the area wa
 s previously Metairie horse racetrack and is now a national landmark. The 
 cemetery offers a picturesque tour of Louisiana’s history that includes th
 e resting places of many past governors\, mayors\, military leaders\, and 
 prominent men & women of the business\, cultural\, political\, and social 
 life of New Orleans.\n\n
DTSTART;TZID=America/Chicago:20230326T070000
DTEND;TZID=America/Chicago:20230326T113000
LOCATION:Lake Lawn Metairie Cemetery\, 5100 Pontchartrain Blvd\, New Orlean
 s\, LA 70124 US
SUMMARY:Run Through History
END:VEVENT
END:VCALENDAR
